BEGIN:VCALENDAR
VERSION:2.0
PRODID:-//eventon.com NONSGML v1.0//EN
CALSCALE:GREGORIAN
METHOD:PUBLISH
BEGIN:VEVENT
UID:69e8a16201554
DTSTAMP:20260422T102226Z
DTSTART:20260416T121500Z
DTEND:20260416T131500Z
LOCATION:
SUMMARY:Noontime Talk: Wendi Sparks\,  Fairfield High School
DESCRIPTION:Join Wendi Sparks\,  art educator at Fairfield Jr.-Sr. High Sch
 ool\,  for an inspiring look at the next generation of artists. New to this
  year’s Youth Art Month exhibit\,  Wendi’s students received several aw
 ards for their artwork in this year’s exhibit\,  including a graduating s
 enior who received the MMAA Senior Scholarship.[..]\nhttps://www.midwestmus
 eum.org/events/noontime-talk-wendi-sparks-fairfield-high-school/
URL:https://www.midwestmuseum.org/events/noontime-talk-wendi-sparks-fairfield-high-school/
END:VEVENT
END:VCALENDAR