BEGIN:VCALENDAR
VERSION:2.0
PRODID:-//eventon.com NONSGML v1.0//EN
CALSCALE:GREGORIAN
METHOD:PUBLISH
BEGIN:VEVENT
UID:69e88bd51613b
DTSTAMP:20260422T085029Z
DTSTART:20260417T091500Z
DTEND:20260417T101500Z
LOCATION:
SUMMARY:YOGA AT THE MUSEUM
DESCRIPTION:Friday mornings\,  9:15 a.m. &#8211; 10:15 a.m. Bring your own 
 mat and get ready to explore movement as art\,  honoring the present moment
  and the beauty that is present around us. All levels are welcome. Register
  online at: midwestmuseum.org/mmaa-store/ Class Fee: $7 Museum Members\,  $
 10 Non-Members\nhttps://www.midwestmuseum.org/events/yoga-at-the-museum-17/
 var/ri-1.l-L1
URL:https://www.midwestmuseum.org/events/yoga-at-the-museum-17/var/ri-1.l-L1
END:VEVENT
END:VCALENDAR