BEGIN:VCALENDAR
VERSION:2.0
PRODID:-//eventon.com NONSGML v1.0//EN
CALSCALE:GREGORIAN
METHOD:PUBLISH
BEGIN:VEVENT
UID:69e88d6f83923
DTSTAMP:20260422T085719Z
DTSTART:20250529T121500Z
DTEND:20250529T131500Z
LOCATION:
SUMMARY:Noon Time Film: Indiana Muse\,  Robert Townsend’s Journey of Discovery
DESCRIPTION:Please join us for our Noon Time Film on Thursday\,  May 28. Re
 gular Admission Fee Applies. Free for MMAA Members &amp; Donors. Gallery Ta
 lks or Noon Time Talks each Thursday will be limited to 50 people on a firs
 t-come-first-serve basis. Doors will be locked at 12:15. No admittance to t
 he[..]\nhttps://www.midwestmuseum.org/events/noon-time-film-indiana-muse-ro
 bert-townsends-journey-of-discovery/
URL:https://www.midwestmuseum.org/events/noon-time-film-indiana-muse-robert-townsends-journey-of-discovery/
END:VEVENT
END:VCALENDAR